BEGIN:VCALENDAR
VERSION:2.0
PRODID:-//Ponce City String Quartet • Atlanta Based Musicians - ECPv6.15.20//NONSGML v1.0//EN
CALSCALE:GREGORIAN
METHOD:PUBLISH
X-WR-CALNAME:Ponce City String Quartet • Atlanta Based Musicians
X-ORIGINAL-URL:https://www.poncecityquartet.com
X-WR-CALDESC:Events for Ponce City String Quartet • Atlanta Based Musicians
REFRESH-INTERVAL;VALUE=DURATION:PT1H
X-Robots-Tag:noindex
X-PUBLISHED-TTL:PT1H
BEGIN:VTIMEZONE
TZID:UTC
BEGIN:STANDARD
TZOFFSETFROM:+0000
TZOFFSETTO:+0000
TZNAME:UTC
DTSTART:20250101T000000
END:STANDARD
END:VTIMEZONE
BEGIN:VEVENT
DTSTART;TZID=UTC:20260502T190000
DTEND;TZID=UTC:20260502T200000
DTSTAMP:20260421T090422
CREATED:20260407T150157Z
LAST-MODIFIED:20260407T150157Z
UID:3187-1777748400-1777752000@www.poncecityquartet.com
SUMMARY:Candlelight: From Bach to The Beatles
DESCRIPTION:⭐   Candlelight    concerts bring the magic of a live\, multi-sensory musical experience to awe-inspiring locations like never seen before in Atlanta. Get your tickets now to discover the music of From Bach to The Beatles at Performing Arts Studio under the gentle glow of candlelight.    General Info   📍 Venue: Performing Arts Studio  📅 Dates and times: select your dates/times directly in the ticket selector  ⏳ Duration: 60 minutes. Doors open 45 minutes before the show. No entry once it starts.  👤 Age requirement: 8 years old or older. Anyone under the age of 16 must be accompanied by an adult  ♿ Accessibility: Zone A is ADA accessible  ❓ View the FAQs for this event  here   🪑 Seating is assigned on a first come first served basis in each zone  🕯️ If you would like to book a private concert or buy regular tickets for a large group (+30 people)\, click  here   🎻 Check out all the  Candlelight concerts  in Atlanta  🎁 To treat your friends and family to a Candlelight gift card\, click  here   Tentative Program   Bach   Brandenburg Concerto No. 3 in G Major\, BWV 1048: I. Allegro  Cello Suite No. 1 in G Major\, BWV 1007: I. Prelude  Ave Maria (Bach / Gounod)  Concerto for 2 Violins in D Minor\, BWV 1043: I. Vivace  The Beatles   I Want to Hold Your Hand  Yesterday  Blackbird  Strawberry Fields Forever  All You Need Is Love  Eleanor Rigby  Michelle  Love Me Do  Something  In My Life  Hey Jude  Here Comes the Sun  Come Together   Performers    Listeso String Quartet    Seating Map      \nEvent Details\n\nVenue: Performing Arts Studio\nCity: Atlanta\nShowtimes: 6:30p\, 8:45p\nPerformers: Listeso String Quartet\n\nBuy Tickets  |  Get a Quote
URL:https://www.poncecityquartet.com/concert/candlelight-from-bach-to-the-beatles/
LOCATION:Performing Arts Studio\, Atlanta\, GA\, US
END:VEVENT
END:VCALENDAR